BEGIN:VCALENDAR

VERSION:2.0

PRODID:-//hacksw/handcal//NONSGML v1.0//EN

BEGIN:VEVENT

UID:01f66bbb3630b55df6a8ca3294adf19c

DTSTAMP:20260421T110451Z

DTSTART:20260424T164000

DTEND:20260424T165500

SUMMARY:IRE5594203 - 4/4 Mosbri Cres Street, The Hill NSW 2300

LOCATION:4/4 Mosbri Cres Street, The Hill NSW 2300

END:VEVENT

END:VCALENDAR