BEGIN:VCALENDAR

VERSION:2.0

PRODID:-//hacksw/handcal//NONSGML v1.0//EN

BEGIN:VEVENT

UID:69c7f79de540ec2498bb2fa9f1128d4f

DTSTAMP:20260421T123357Z

DTSTART:20260423T170000

DTEND:20260423T173000

SUMMARY:R2-4045021 - 6/33 Vista Parade, Kotara NSW 2289

LOCATION:6/33 Vista Parade, Kotara NSW 2289

END:VEVENT

END:VCALENDAR